BEGIN:VCALENDAR
VERSION:2.0
PRODID:-//Get Fitt - ECPv6.15.20//NONSGML v1.0//EN
CALSCALE:GREGORIAN
METHOD:PUBLISH
X-ORIGINAL-URL:https://get-fitt.com
X-WR-CALDESC:Events for Get Fitt
REFRESH-INTERVAL;VALUE=DURATION:PT1H
X-Robots-Tag:noindex
X-PUBLISHED-TTL:PT1H
BEGIN:VTIMEZONE
TZID:Europe/Paris
BEGIN:DAYLIGHT
TZOFFSETFROM:+0100
TZOFFSETTO:+0200
TZNAME:CEST
DTSTART:20210328T010000
END:DAYLIGHT
BEGIN:STANDARD
TZOFFSETFROM:+0200
TZOFFSETTO:+0100
TZNAME:CET
DTSTART:20211031T010000
END:STANDARD
BEGIN:DAYLIGHT
TZOFFSETFROM:+0100
TZOFFSETTO:+0200
TZNAME:CEST
DTSTART:20220327T010000
END:DAYLIGHT
BEGIN:STANDARD
TZOFFSETFROM:+0200
TZOFFSETTO:+0100
TZNAME:CET
DTSTART:20221030T010000
END:STANDARD
BEGIN:DAYLIGHT
TZOFFSETFROM:+0100
TZOFFSETTO:+0200
TZNAME:CEST
DTSTART:20230326T010000
END:DAYLIGHT
BEGIN:STANDARD
TZOFFSETFROM:+0200
TZOFFSETTO:+0100
TZNAME:CET
DTSTART:20231029T010000
END:STANDARD
BEGIN:DAYLIGHT
TZOFFSETFROM:+0100
TZOFFSETTO:+0200
TZNAME:CEST
DTSTART:20240331T010000
END:DAYLIGHT
BEGIN:STANDARD
TZOFFSETFROM:+0200
TZOFFSETTO:+0100
TZNAME:CET
DTSTART:20241027T010000
END:STANDARD
END:VTIMEZONE
BEGIN:VEVENT
DTSTART;TZID=Europe/Paris:20220413T140000
DTEND;TZID=Europe/Paris:20220413T153000
DTSTAMP:20260423T002616
CREATED:20220401T173500Z
LAST-MODIFIED:20220413T120908Z
UID:3801-1649858400-1649863800@get-fitt.com
SUMMARY:Fatigue Recovery Secrets Unveiled
DESCRIPTION:OVERCOMING ENVIRONMENTAL TOXICITY \, HORMONE DISRUPTION\,\nCELL DAMAGE & BEING STRESSED & TIRED ALL THE TIME!\nLive Webinars 13th-15th April\nPresenting:\n\nDr Rajendra Sharma Weds 13th Apr 14:00 (BST)\nEndocrine (Hormone) Disruptors are An Underestimated Cause of Illness\, Fatigue and Mental Health Issues. \nDr Rajendra Sharma\, Integrated Doctor\, CAM Practitioner with a specialist interest in Functional Medicine and Author\, will be presenting and discussing this rare subject during this Live webinar and Q & A session. \n  \nDay 1 – Dr Rajendra Sharma\nDr Sharma will cover the following topics & more: \n\nWhy things go wrong\nThe practical approach to treating environmental toxicity & Hormone Disruption\nThe Effects on endocrine (hormone) glands\, receptors\, and cellular function\nHow to identify what needs to be treated \nHow to treat and recover from this markedly underestimated cause for many chronic illnesses\nBeing TATT (Tired All The Time) \nMental health – anxiety\, depression and\nA lack of energy & drive\n\nDr Rajendra Sharma\, MB BCh BAO LRCP&S (Ire) MFHom\, is a fully qualified GMC and CQC registered doctor who has practiced in Conventional\, Functional and Complementary medicine for 37 years. \nHis special interest is working with patients who have chronic conditions and illnesses that are unresponsive to conventional therapy such as environmental toxicity (metal\, amalgam\, food-chain toxins etc) CFS/ME\, chronic infections\, poorly controlled hormone issues such as thyroid balance & oestrogen dominance. \nDr Sharma has been Medical Director to the largest UK Complementary Medical center (The Hale Clinic) and 3 other independent Integrated Clinics. \nHe has authored The Family Encyclopedia of Health (Element 1998\, Re-print Thorsons 2002) and the award winning “Live Longer Live Younger” (Watkins 2014\, updated and re-published Spring 2021. \nBOOK NOW \nMark Givert Thurs/Fri 14th & 15th Apr 14:00 (BST)\n\nMark Givert the Founder of Get Fitt suffered from fatigue for over 6 years and with the help of Far Infrared Light Therapy fully recovered in 8 months with no relapses. \nFour months after his recovery\, in November 2004 he launched Get Fitt to help people recover from Fatigue and to help them learn all about Far Infrared Light Therapy. \nSince 2004 Get Fitt has been working with Doctors\, and healthcare professionals helping clients successfully recover from Chronic Fatigue\, M.E and Post Viral Fatigue. They have also been providing Far Infrared Light Therapy training & support for the public and healthcare professionals worldwide. \n\nDay 2 – Mark Givert (Founder of Get Fitt)\nMark Givert will cover the following topics & more: \nFar Infrared For: \n\nEnvironmental Toxicity\nHormone Disruption\nCell Damage\nStress\, Anxiety & Fatigue\nDetoxification\nYour Thyroid – The Energy Connection\nRestoring Cardiovascular Function\nReducing Inflammation\nBoosting Immunity\nRestoring Lung Function\nImproving Gut Function\n\nDay 3 – Mark Givert – Live Q & A – Far Infrared for Detox\, Hormone Disruption & Fatigue Recovery\nIntroduction to ThinQ Fitt – Mind Dynamics for Recovery\nDiscover: \n\nWhat is Slowing Down Your Recovery\nLimiting Beliefs\nWhy Recovery Mindset Matters\nBrain Re-Wiring\nHealing the Trauma\nYour Stress Drivers\nEasy Techniques for Rapid Stress Reduction & Accelerated Healing
URL:https://get-fitt.com/event/fatigue-recovery-secrets-unveiled-1/
LOCATION:Online\, Live Event
END:VEVENT
BEGIN:VEVENT
DTSTART;TZID=Europe/Paris:20220414T140000
DTEND;TZID=Europe/Paris:20220414T153000
DTSTAMP:20260423T002616
CREATED:20220401T181227Z
LAST-MODIFIED:20220413T120708Z
UID:3811-1649944800-1649950200@get-fitt.com
SUMMARY:Fatigue Recovery Secrets Unveiled
DESCRIPTION:OVERCOMING ENVIRONMENTAL TOXICITY \, HORMONE DISRUPTION\,\nCELL DAMAGE & BEING STRESSED & TIRED ALL THE TIME!\nLive Webinars 13th-15th April\nPresenting:\n\nDr Rajendra Sharma Weds 13th Apr 14:00 (BST)\nEndocrine (Hormone) Disruptors are An Underestimated Cause of Illness\, Fatigue and Mental Health Issues. \nDr Rajendra Sharma\, Integrated Doctor\, CAM Practitioner with a specialist interest in Functional Medicine and Author\, will be presenting and discussing this rare subject during this Live webinar and Q & A session. \n  \nDay 1 – Dr Rajendra Sharma\nDr Sharma will cover the following topics & more: \n\nWhy things go wrong\nThe practical approach to treating environmental toxicity & Hormone Disruption\nThe Effects on endocrine (hormone) glands\, receptors\, and cellular function\nHow to identify what needs to be treated \nHow to treat and recover from this markedly underestimated cause for many chronic illnesses\nBeing TATT (Tired All The Time) \nMental health – anxiety\, depression and\nA lack of energy & drive\n\nDr Rajendra Sharma\, MB BCh BAO LRCP&S (Ire) MFHom\, is a fully qualified GMC and CQC registered doctor who has practiced in Conventional\, Functional and Complementary medicine for 37 years. \nHis special interest is working with patients who have chronic conditions and illnesses that are unresponsive to conventional therapy such as environmental toxicity (metal\, amalgam\, food-chain toxins etc) CFS/ME\, chronic infections\, poorly controlled hormone issues such as thyroid balance & oestrogen dominance. \nDr Sharma has been Medical Director to the largest UK Complementary Medical center (The Hale Clinic) and 3 other independent Integrated Clinics. \nHe has authored The Family Encyclopedia of Health (Element 1998\, Re-print Thorsons 2002) and the award winning “Live Longer Live Younger” (Watkins 2014\, updated and re-published Spring 2021. \nBOOK NOW \nMark Givert Thurs/Fri 14th & 15th Apr 14:00 (BST)\n\nMark Givert the Founder of Get Fitt suffered from fatigue for over 6 years and with the help of Far Infrared Light Therapy fully recovered in 8 months with no relapses. \nFour months after his recovery\, in November 2004 he launched Get Fitt to help people recover from Fatigue and to help them learn all about Far Infrared Light Therapy. \nSince 2004 Get Fitt has been working with Doctors\, and healthcare professionals helping clients successfully recover from Chronic Fatigue\, M.E and Post Viral Fatigue. They have also been providing Far Infrared Light Therapy training & support for the public and healthcare professionals worldwide. \n\nDay 2 – Mark Givert (Founder of Get Fitt)\nMark Givert will cover the following topics & more: \nFar Infrared For: \n\nEnvironmental Toxicity\nHormone Disruption\nCell Damage\nStress\, Anxiety & Fatigue\nDetoxification\nYour Thyroid – The Energy Connection\nRestoring Cardiovascular Function\nReducing Inflammation\nBoosting Immunity\nRestoring Lung Function\nImproving Gut Function\n\nDay 3 – Mark Givert – Live Q & A – Far Infrared for Detox\, Hormone Disruption & Fatigue Recovery\nIntroduction to ThinQ Fitt – Mind Dynamics for Recovery\nDiscover: \n\nWhat is Slowing Down Your Recovery\nLimiting Beliefs\nWhy Recovery Mindset Matters\nBrain Re-Wiring\nHealing the Trauma\nYour Stress Drivers\nEasy Techniques for Rapid Stress Reduction & Accelerated Healing
URL:https://get-fitt.com/event/fatigue-recovery-secrets-unveiled-2/
LOCATION:Online\, Live Event
END:VEVENT
BEGIN:VEVENT
DTSTART;TZID=Europe/Paris:20220415T140000
DTEND;TZID=Europe/Paris:20220415T153000
DTSTAMP:20260423T002616
CREATED:20220401T181640Z
LAST-MODIFIED:20220413T120630Z
UID:3818-1650031200-1650036600@get-fitt.com
SUMMARY:Fatigue Recovery Secrets Unveiled
DESCRIPTION:OVERCOMING ENVIRONMENTAL TOXICITY \, HORMONE DISRUPTION\,\nCELL DAMAGE & BEING STRESSED & TIRED ALL THE TIME!\nLive Webinars 13th-15th April\nPresenting:\n\nDr Rajendra Sharma Weds 13th Apr 14:00  (BST)\nEndocrine (Hormone) Disruptors are An Underestimated Cause of Illness\, Fatigue and Mental Health Issues. \nDr Rajendra Sharma\, Integrated Doctor\, CAM Practitioner with a specialist interest in Functional Medicine and Author\, will be presenting and discussing this rare subject during this Live webinar and Q & A session. \n  \nDay 1 – Dr Rajendra Sharma\nDr Sharma will cover the following topics & more: \n\nWhy things go wrong\nThe practical approach to treating environmental toxicity & Hormone Disruption\nThe Effects on endocrine (hormone) glands\, receptors\, and cellular function\nHow to identify what needs to be treated \nHow to treat and recover from this markedly underestimated cause for many chronic illnesses\nBeing TATT (Tired All The Time) \nMental health – anxiety\, depression and\nA lack of energy & drive\n\nDr Rajendra Sharma\, MB BCh BAO LRCP&S (Ire) MFHom\, is a fully qualified GMC and CQC registered doctor who has practiced in Conventional\, Functional and Complementary medicine for 37 years. \nHis special interest is working with patients who have chronic conditions and illnesses that are unresponsive to conventional therapy such as environmental toxicity (metal\, amalgam\, food-chain toxins etc) CFS/ME\, chronic infections\, poorly controlled hormone issues such as thyroid balance & oestrogen dominance. \nDr Sharma has been Medical Director to the largest UK Complementary Medical center (The Hale Clinic) and 3 other independent Integrated Clinics. \nHe has authored The Family Encyclopedia of Health (Element 1998\, Re-print Thorsons 2002) and the award winning “Live Longer Live Younger” (Watkins 2014\, updated and re-published Spring 2021. \nBOOK NOW \nMark Givert Thurs/Fri 14th & 15th Apr 14:00 (BST)\n\nMark Givert the Founder of Get Fitt suffered from fatigue for over 6 years and with the help of Far Infrared Light Therapy fully recovered in 8 months with no relapses. \nFour months after his recovery\, in November 2004 he launched Get Fitt to help people recover from Fatigue and to help them learn all about Far Infrared Light Therapy. \nSince 2004 Get Fitt has been working with Doctors\, and healthcare professionals helping clients successfully recover from Chronic Fatigue\, M.E and Post Viral Fatigue. They have also been providing Far Infrared Light Therapy training & support for the public and healthcare professionals worldwide. \n\nDay 2 – Mark Givert (Founder of Get Fitt)\nMark Givert will cover the following topics & more: \nFar Infrared For: \n\nEnvironmental Toxicity\nHormone Disruption\nCell Damage\nStress\, Anxiety & Fatigue\nDetoxification\nYour Thyroid – The Energy Connection\nRestoring Cardiovascular Function\nReducing Inflammation\nBoosting Immunity\nRestoring Lung Function\nImproving Gut Function\n\nDay 3 – Mark Givert – Live Q & A – Far Infrared for Detox\, Hormone Disruption & Fatigue Recovery\nIntroduction to ThinQ Fitt – Mind Dynamics for Recovery\nDiscover: \n\nWhat is Slowing Down Your Recovery\nLimiting Beliefs\nWhy Recovery Mindset Matters\nBrain Re-Wiring\nHealing the Trauma\nYour Stress Drivers\nEasy Techniques for Rapid Stress Reduction & Accelerated Healing
URL:https://get-fitt.com/event/fatigue-recovery-secrets/
END:VEVENT
BEGIN:VEVENT
DTSTART;TZID=Europe/Paris:20220518T140000
DTEND;TZID=Europe/Paris:20220518T153000
DTSTAMP:20260423T002616
CREATED:20220515T102745Z
LAST-MODIFIED:20220517T225328Z
UID:3923-1652882400-1652887800@get-fitt.com
SUMMARY:Fatigue Recovery - Restoring Heart & Cardio Function – Live Webinar Day 1
DESCRIPTION:Fatigue Recovery –\nRestoring Heart & Cardio Function\nFree LIVE webinars And Live Q & A Sessions\n\nPresenting\nDay 1 – Dr Sarah Myhill 14:00 (GMT )Weds 18th May\n\nDiagnosis and Management of Chronic Fatigue\, Myalgic-Encephalitis\, Long Covid & Post Vaccination Fatigue. \nDay 2 – Mark Givert 14:00 (GMT) Thurs 19th May\nFar Infrared Light Therapy for Recovery From Fatigue\, Heart Repair & Restoring Cardiovascular function. \nDay 3 – Mark Givert 14:00 (GMT) Fri 20th May\n\nQ & A Far Infrared for Recovery From Fatigue\, & Introduction to ThinQ Fitt…\n \nIntro to ThinQ Fitt – Mind Dynamics\n\nThe Survival Mindset & Beyond\nThe Recovery Mindset\nYour Stress Drivers\nWhat is Slowing Down Your Recovery\nEasy Techniques for Rapid Stress Reduction & Accelerated Healing\n\nDiscover Your Stress Drivers\, What is Slowing Down Your Recovery and What You Can do About it! \nBOOK NOW \nGet Fitt are proud to present Dr Sarah Myhill a leading light in the world of recovery from Chronic Fatigue. \nDr Myhill has over 40 years experience as a medical doctor and who is a Pioneer in the Field of Chronic Fatigue. \nShe is the author of The handbook to Chronic Fatigue Recovery. \nDiagnosis & Treatment of Chronic Fatigue Syndrome & Myalgic Encephalitis. \nDr Myhill has also published Ground breaking Research regarding the nature of Chronic Fatigue. \nDay 1 – Dr Sarah Myhill\nDr Myhill will cover the following topics & more: \nRestoring Heart & Cardiovascular Function \n\nMitochondrial Repair for Heart Function\nWhy Heart Repair\nRestoring Healthy Heart Function\nRestoring Cardiovascular Function\n\nEnergy Delivery Mechanisms: \n\nDiet\,\nGut Function\nMitochondrial Dysfunction\,\nAdrenal and Thyroid problems\n\nInflammation Mechanisms\nChronic Infections\,\nAllergy and Auto-Immunity with particular reference to vaccination.\n\nDay 2 – Mark Givert (Founder of Get Fitt)\nMark Givert will cover the following topics & more: \nFar Infrared For: \n\nMitochondrial Repair\nHeart Repair\nHeart Function\nBlood Vessel Damage\nHigh Blood Pressure\nRestoring Cardiovascular Function\nDetoxification\nHormonal Disruption\nStress Relief & Nervous System Reset\nReducing Pain & Inflammation\nBoosting Immunity\nRestoring Lung Function\nImproving Gut Function\n\nDay 3 – Mark Givert – Live Q & A – Far Infrared for Fatigue Recovery\nIntroduction to ThinQ Fitt – Mind Dynamics\nDiscover: \n\nSurvival Mindset\nThe Recovery Mindset\nYour Stress Drivers\nWhat is Slowing Down Your Recovery\nAccelerating Your Recovery
URL:https://get-fitt.com/event/atigue-recovery-restoring-heart-cardio-function/
LOCATION:Online\, Live Event
END:VEVENT
BEGIN:VEVENT
DTSTART;TZID=Europe/Paris:20220519T140000
DTEND;TZID=Europe/Paris:20220519T153000
DTSTAMP:20260423T002616
CREATED:20220515T103941Z
LAST-MODIFIED:20220517T225302Z
UID:3928-1652968800-1652974200@get-fitt.com
SUMMARY:Fatigue Recovery – Restoring Heart & Cardio Function – Live Webinar Day 2
DESCRIPTION:Fatigue Recovery –\nRestoring Heart & Cardio Function\nFree LIVE webinars And Live Q & A Sessions\n\nPresenting\nDay 1 – Dr Sarah Myhill 14:00 (GMT )Weds 18th May\n\nDiagnosis and Management of Chronic Fatigue\, Myalgic-Encephalitis\, Long Covid & Post Vaccination Fatigue. \nDay 2 – Mark Givert 14:00 (GMT) Thurs 19th May\nFar Infrared Light Therapy for Recovery From Fatigue\, Heart Repair & Restoring Cardiovascular function. \nDay 3 – Mark Givert 14:00 (GMT) Fri 20th May\n\nQ & A Far Infrared for Recovery From Fatigue\, & Introduction to ThinQ Fitt…\n \nIntro to ThinQ Fitt – Mind Dynamics\n\nThe Survival Mindset & Beyond\nThe Recovery Mindset\nYour Stress Drivers\nWhat is Slowing Down Your Recovery\nEasy Techniques for Rapid Stress Reduction & Accelerated Healing\n\nDiscover Your Stress Drivers\, What is Slowing Down Your Recovery and What You Can do About it! \nBOOK NOW \nGet Fitt are proud to present Dr Sarah Myhill a leading light in the world of recovery from Chronic Fatigue. \nDr Myhill has over 40 years experience as a medical doctor and who is a Pioneer in the Field of Chronic Fatigue. \nShe is the author of The handbook to Chronic Fatigue Recovery. \nDiagnosis & Treatment of Chronic Fatigue Syndrome & Myalgic Encephalitis. \nDr Myhill has also published Ground breaking Research regarding the nature of Chronic Fatigue. \nDay 1 – Dr Sarah Myhill\nDr Myhill will cover the following topics & more: \nRestoring Heart & Cardiovascular Function \n\nMitochondrial Repair for Heart Function\nWhy Heart Repair\nRestoring Healthy Heart Function\nRestoring Cardiovascular Function\n\nEnergy Delivery Mechanisms: \n\nDiet\,\nGut Function\nMitochondrial Dysfunction\,\nAdrenal and Thyroid problems\n\nInflammation Mechanisms\nChronic Infections\,\nAllergy and Auto-Immunity with particular reference to vaccination.\n\nDay 2 – Mark Givert (Founder of Get Fitt)\nMark Givert will cover the following topics & more: \nFar Infrared For: \n\nMitochondrial Repair\nHeart Repair\nHeart Function\nBlood Vessel Damage\nHigh Blood Pressure\nRestoring Cardiovascular Function\nDetoxification\nHormonal Disruption\nStress Relief & Nervous System Reset\nReducing Pain & Inflammation\nBoosting Immunity\nRestoring Lung Function\nImproving Gut Function\n\nDay 3 – Mark Givert – Live Q & A – Far Infrared for Fatigue Recovery\nIntroduction to ThinQ Fitt – Mind Dynamics\nDiscover: \n\nSurvival Mindset\nThe Recovery Mindset\nYour Stress Drivers\nWhat is Slowing Down Your Recovery\nAccelerating Your Recovery
URL:https://get-fitt.com/event/fatigue-recovery-restoring-heart-cardio-function-live-webinar-day-2/
LOCATION:Online\, Live Event
END:VEVENT
BEGIN:VEVENT
DTSTART;TZID=Europe/Paris:20220520T140000
DTEND;TZID=Europe/Paris:20220520T153000
DTSTAMP:20260423T002616
CREATED:20220515T104301Z
LAST-MODIFIED:20221115T152436Z
UID:3931-1653055200-1653060600@get-fitt.com
SUMMARY:Fatigue Recovery – Restoring Heart & Cardio Function – Live Webinar Day 3
DESCRIPTION:Fatigue Recovery –\nRestoring Heart & Cardio Function\nFree LIVE webinars And Live Q & A Sessions\n\nPresenting\nDay 3 – Mark Givert 14:00 (GMT) Fri 20th May\n\nQ & A Far Infrared for Recovery From Fatigue\, & Introduction to ThinQ Fitt…\n \nIntro to ThinQ Fitt – Mind Dynamics\n\nThe Survival Mindset & Beyond\nThe Recovery Mindset\nYour Stress Drivers\nWhat is Slowing Down Your Recovery\nEasy Techniques for Rapid Stress Reduction & Accelerated Healing\n\nDiscover Your Stress Drivers\, What is Slowing Down Your Recovery and What You Can do About it! \nBOOK NOW \nGet Fitt are proud to present Dr Sarah Myhill a leading light in the world of recovery from Chronic Fatigue. \nDr Myhill has over 40 years experience as a medical doctor and who is a Pioneer in the Field of Chronic Fatigue. \nShe is the author of The handbook to Chronic Fatigue Recovery. \nDiagnosis & Treatment of Chronic Fatigue Syndrome & Myalgic Encephalitis. \nDr Myhill has also published Ground breaking Research regarding the nature of Chronic Fatigue. \nDay 1 – Dr Sarah Myhill\nDr Myhill will cover the following topics & more: \nRestoring Heart & Cardiovascular Function \n\nMitochondrial Repair for Heart Function\nWhy Heart Repair\nRestoring Healthy Heart Function\nRestoring Cardiovascular Function\n\nEnergy Delivery Mechanisms: \n\nDiet\,\nGut Function\nMitochondrial Dysfunction\,\nAdrenal and Thyroid problems\n\nInflammation Mechanisms\nChronic Infections\,\nAllergy and Auto-Immunity with particular reference to vaccination.\n\nDay 2 – Mark Givert (Founder of Get Fitt)\nMark Givert will cover the following topics & more: \nFar Infrared For: \n\nMitochondrial Repair\nHeart Repair\nHeart Function\nBlood Vessel Damage\nHigh Blood Pressure\nRestoring Cardiovascular Function\nDetoxification\nHormonal Disruption\nStress Relief & Nervous System Reset\nReducing Pain & Inflammation\nBoosting Immunity\nRestoring Lung Function\nImproving Gut Function\n\nDay 3 – Mark Givert – Live Q & A – Far Infrared for Fatigue Recovery\nIntroduction to ThinQ Fitt – Mind Dynamics\nDiscover: \n\nSurvival Mindset\nThe Recovery Mindset\nYour Stress Drivers\nWhat is Slowing Down Your Recovery\nAccelerating Your Recovery
URL:https://get-fitt.com/event/fatigue-recovery-restoring-heart-cardio-function-live-webinar-day-3/
END:VEVENT
BEGIN:VEVENT
DTSTART;TZID=Europe/Paris:20230620T140000
DTEND;TZID=Europe/Paris:20230620T153000
DTSTAMP:20260423T002616
CREATED:20230620T111347Z
LAST-MODIFIED:20230620T112336Z
UID:5251-1687269600-1687275000@get-fitt.com
SUMMARY:Neurodegenerative Disease & Poor Brain Function - Prevention & Natural Treatment - Day 1 - Dr Myhill
DESCRIPTION:Neurodegenerative Disease & Poor Brain Function –\nPrevention & Natural Treatment\nLive Webinars 20th\, 21st & 22nd June\n\nPresenting\nDay 1 – Dr Sarah Myhill\nDr Myhill will cover the following topics & more: \n\nUnderlying Causes/Pathology\nBrain & Nervous System – Needs for Healthy function\nBrain Food – What You Need\nWhy You Need to Detoxify\nDealing With Alzheimer’s Disease & Dementia\nImproving Energy Delivery & Circulation\nDementia & Prions\nTreatment\n\n  \nBOOK NOW \nDay 2 – Mark Givert (Founder of Get Fitt)\nPrevention & Treatment of Neurodegenerative Disease\nMark Givert will cover the following topics & more: \n\nIncreasing Energy for the Nervous System\nPreventing Neurodegenerative Disease\nRepairing Nerve Damage\nImproving Circulation\nBetter Cognitive Function\nDetoxification\nReducing Inflammation\nImproving Gut Function\nLatest Research & Technologies for Treatment\n\nDay 3 – Mark Givert – Live Q & A –\nPrevention & Treatment of Neurodegenerative Disease\nBreakthrough Treatments and Latest Research…. \nBOOK NOW \n  \nGet Fitt are proud to present Dr Sarah Myhill a leading light in the world of recovery from Chronic Fatigue. \nDr Myhill has over 40 years experience as a medical doctor and who is a Pioneer in the Field of Chronic Fatigue. \nShe is the author of The handbook to Chronic Fatigue Recovery. \nDiagnosis & Treatment of Chronic Fatigue Syndrome & Myalgic Encephalitis. \nDr Myhill has also published Ground breaking Research regarding the nature of Chronic Fatigue. \n  \nCLICK HERE TO BOOK NOW \nSpace is Limited so Please Book Soonest to Reserve your Place –\nPlease do Pass this on to Friends/Family or Anyone You Feel May Benefit \n 
URL:https://get-fitt.com/event/neurodegenerative-disease-poor-brain-function-prevention-natural-treatment/
LOCATION:Online\, Live Event
ORGANIZER;CN="Get  Fitt Ltd":MAILTO:admin@get-fitt.com
END:VEVENT
BEGIN:VEVENT
DTSTART;TZID=Europe/Paris:20230621T140000
DTEND;TZID=Europe/Paris:20230621T153000
DTSTAMP:20260423T002616
CREATED:20230620T111546Z
LAST-MODIFIED:20230620T112307Z
UID:5253-1687356000-1687361400@get-fitt.com
SUMMARY:Neurodegenerative Disease & Poor Brain Function - Prevention & Natural Treatment - Day 2 - Mark
DESCRIPTION:Neurodegenerative Disease & Poor Brain Function –\nPrevention & Natural Treatment\nLive Webinars 20th\, 21st & 22nd June\n\nPresenting\nDay 2 – Mark Givert (Founder of Get Fitt)\nPrevention & Treatment of Neurodegenerative Disease\nMark Givert will cover the following topics & more: \n\nIncreasing Energy for the Nervous System\nPreventing Neurodegenerative Disease\nRepairing Nerve Damage\nImproving Circulation\nBetter Cognitive Function\nDetoxification\nReducing Inflammation\nImproving Gut Function\nLatest Research & Technologies for Treatment\n\nDay 3 – Mark Givert – Live Q & A –\nPrevention & Treatment of Neurodegenerative Disease\nBreakthrough Treatments and Latest Research…. \nCLICK HERE TO BOOK NOW \nSpace is Limited so Please Book Soonest to Reserve your Place –\nPlease do Pass this on to Friends/Family or Anyone You Feel May Benefit \n 
URL:https://get-fitt.com/event/neurodegenerative-disease-poor-brain-function-prevention-natural-treatment-day-2/
END:VEVENT
BEGIN:VEVENT
DTSTART;TZID=Europe/Paris:20230622T140000
DTEND;TZID=Europe/Paris:20230622T153000
DTSTAMP:20260423T002616
CREATED:20230620T111811Z
LAST-MODIFIED:20230620T112405Z
UID:5258-1687442400-1687447800@get-fitt.com
SUMMARY:Neurodegenerative Disease & Poor Brain Function - Prevention & Natural Treatment - Day 3 - Q & A
DESCRIPTION:
URL:https://get-fitt.com/event/neurodegenerative-disease-poor-brain-function-prevention-natural-treatment-2/
END:VEVENT
BEGIN:VEVENT
DTSTART;TZID=Europe/Paris:20231031T160000
DTEND;TZID=Europe/Paris:20231031T173000
DTSTAMP:20260423T002616
CREATED:20231027T135904Z
LAST-MODIFIED:20231027T135953Z
UID:5502-1698768000-1698773400@get-fitt.com
SUMMARY:Introduction to Detox & Rejuvenation
DESCRIPTION:
URL:https://get-fitt.com/event/introduction-to-detox-rejuvenation/
LOCATION:Online\, Live Event
END:VEVENT
END:VCALENDAR