BEGIN:VCALENDAR
VERSION:2.0
PRODID:-//Get Fitt - ECPv6.15.20//NONSGML v1.0//EN
CALSCALE:GREGORIAN
METHOD:PUBLISH
X-WR-CALNAME:Get Fitt
X-ORIGINAL-URL:https://get-fitt.com
X-WR-CALDESC:Events for Get Fitt
REFRESH-INTERVAL;VALUE=DURATION:PT1H
X-Robots-Tag:noindex
X-PUBLISHED-TTL:PT1H
BEGIN:VTIMEZONE
TZID:Europe/Paris
BEGIN:DAYLIGHT
TZOFFSETFROM:+0100
TZOFFSETTO:+0200
TZNAME:CEST
DTSTART:20180325T010000
END:DAYLIGHT
BEGIN:STANDARD
TZOFFSETFROM:+0200
TZOFFSETTO:+0100
TZNAME:CET
DTSTART:20181028T010000
END:STANDARD
BEGIN:DAYLIGHT
TZOFFSETFROM:+0100
TZOFFSETTO:+0200
TZNAME:CEST
DTSTART:20190331T010000
END:DAYLIGHT
BEGIN:STANDARD
TZOFFSETFROM:+0200
TZOFFSETTO:+0100
TZNAME:CET
DTSTART:20191027T010000
END:STANDARD
BEGIN:DAYLIGHT
TZOFFSETFROM:+0100
TZOFFSETTO:+0200
TZNAME:CEST
DTSTART:20200329T010000
END:DAYLIGHT
BEGIN:STANDARD
TZOFFSETFROM:+0200
TZOFFSETTO:+0100
TZNAME:CET
DTSTART:20201025T010000
END:STANDARD
END:VTIMEZONE
BEGIN:VTIMEZONE
TZID:UTC
BEGIN:STANDARD
TZOFFSETFROM:+0000
TZOFFSETTO:+0000
TZNAME:UTC
DTSTART:20170101T000000
END:STANDARD
END:VTIMEZONE
BEGIN:VEVENT
DTSTART;TZID=Europe/Paris:20190928T103000
DTEND;TZID=Europe/Paris:20190928T133000
DTSTAMP:20260422T235352
CREATED:20190730T204525Z
LAST-MODIFIED:20200304T162228Z
UID:669-1569666600-1569677400@get-fitt.com
SUMMARY:The Get Fitt Far Infrared Experience - An Introduction to Far Infrared Light Therapy
DESCRIPTION:Limited Spaces\nBook Now for Early Bird Special\n \nVenue: 10 Beaumont Gate\, Shenley Hill\, Radlett WD7 7AR – 2 Mins Walk From Station.\nNearest Rail station – Radlett Thameslink – 20 minutes Direct from St Pancras.\nFree Car Parking Available
URL:https://get-fitt.com/event/introduction-to-far-infrared-light-therapy1/
LOCATION:10 Beaumont Gate\, Shenley Hill\, Radlett\, WD7 7AR\, United Kingdom
CATEGORIES:Far Infrared Workshops
ORGANIZER;CN="Get  Fitt Ltd":MAILTO:admin@get-fitt.com
END:VEVENT
BEGIN:VEVENT
DTSTART;TZID=Europe/Paris:20190926T193000
DTEND;TZID=Europe/Paris:20190926T210000
DTSTAMP:20260422T235352
CREATED:20190808T143900Z
LAST-MODIFIED:20200407T113504Z
UID:1202-1569526200-1569531600@get-fitt.com
SUMMARY:Far Infrared Light Therapy Webinar- The One Thing That Can Change Everything
DESCRIPTION:LIVE ONLINE WEBINAR TRAINING\n \nThis Webinar Training will explain more about Far Infrared Light Therapy\, how it works and just how it can help activate the body’s Natural Healing & Repairing Systems. \nIn addition we will discuss just how full body Far infrared Light Therapy can support the entire body system assisting all the compromised organs and systems simultaneously.
URL:https://get-fitt.com/event/far-infrared-light-therapy-workshop/
LOCATION:Online\, Live Event
ORGANIZER;CN="Get  Fitt Ltd":MAILTO:admin@get-fitt.com
END:VEVENT
BEGIN:VEVENT
DTSTART;TZID=UTC:20180831T110000
DTEND;TZID=UTC:20180831T140000
DTSTAMP:20260422T235352
CREATED:20180614T130517Z
LAST-MODIFIED:20200109T145815Z
UID:671-1535713200-1535724000@get-fitt.com
SUMMARY:Systemic Far Infrared Light Therapy – An Holistic Solution
DESCRIPTION:(Limited Spaces – Book Early )\nVenue: 10 Beaumont Gate\, Shenley Hill\, Radlett WD7 7AR – 2 Mins Walk From Station\nNearest Rail station – Radlett Thameslink – 20 minutes Direct from St Pancras
URL:https://get-fitt.com/event/the-get-fitt-far-infrared-experience-free-workshops-an-introduction-to-far-infrared-light-therapy-4/
LOCATION:The Holistic Centre\, Wiggins Yard\, Godalming\, GU7 1HL\, United Kingdom
CATEGORIES:Far Infrared Workshops
END:VEVENT
BEGIN:VEVENT
DTSTART;TZID=UTC:20180727T080000
DTEND;TZID=UTC:20180727T170000
DTSTAMP:20260422T235352
CREATED:20180614T125151Z
LAST-MODIFIED:20180614T125217Z
UID:661-1532678400-1532710800@get-fitt.com
SUMMARY:Far Infrared Light Therapy - Freedom From Pain Workshops
DESCRIPTION:Workshop Includes a Free Far Infrared Treatment\n(Limited Spaces – Book Early – Lunch Included on Saturday)\nVenue: 10 Beaumont Gate\, Shenley Hill\, Radlett WD7 7AR – 2 Mins Walk From Station \nNearest Rail station – Radlett Thameslink –  20 minutes Direct from St Pancras
URL:https://get-fitt.com/event/far-infrared-light-therapy-freedom-from-pain-workshops-4/
LOCATION:10 Beaumont Gate\, Shenley Hill\, Radlett\, WD7 7AR\, United Kingdom
CATEGORIES:Far Infrared for Freedom From Pain
END:VEVENT
BEGIN:VEVENT
DTSTART;TZID=UTC:20180725T140000
DTEND;TZID=UTC:20180725T170000
DTSTAMP:20260422T235352
CREATED:20180614T124940Z
LAST-MODIFIED:20180614T125246Z
UID:659-1532527200-1532538000@get-fitt.com
SUMMARY:Far Infrared Light Therapy - Freedom From Pain Workshops
DESCRIPTION:Workshop Includes a Free Far Infrared Treatment\n(Limited Spaces – Book Early – Lunch Included on Saturday)\nVenue: 10 Beaumont Gate\, Shenley Hill\, Radlett WD7 7AR – 2 Mins Walk From Station \nNearest Rail station – Radlett Thameslink –  20 minutes Direct from St Pancras
URL:https://get-fitt.com/event/far-infrared-light-therapy-freedom-from-pain-workshops-3/
LOCATION:10 Beaumont Gate\, Shenley Hill\, Radlett\, WD7 7AR\, United Kingdom
CATEGORIES:Far Infrared for Freedom From Pain
END:VEVENT
BEGIN:VEVENT
DTSTART;TZID=UTC:20180630T110000
DTEND;TZID=UTC:20180630T140000
DTSTAMP:20260422T235352
CREATED:20180614T125857Z
LAST-MODIFIED:20180614T130005Z
UID:665-1530356400-1530367200@get-fitt.com
SUMMARY:The Get Fitt Far Infrared Experience - Free Workshops An Introduction to Far Infrared Light Therapy
DESCRIPTION:(Limited Spaces – Book Early – Lunch Included on Saturdays)\nVenue: 10 Beaumont Gate\, Shenley Hill\, Radlett WD7 7AR – 2 Mins Walk From Station\nNearest Rail station – Radlett Thameslink – 20 minutes Direct from St Pancras
URL:https://get-fitt.com/event/the-get-fitt-far-infrared-experience-free-workshops-an-introduction-to-far-infrared-light-therapy-2/
LOCATION:10 Beaumont Gate\, Shenley Hill\, Radlett\, WD7 7AR\, United Kingdom
CATEGORIES:Far Infrared Workshops
END:VEVENT
BEGIN:VEVENT
DTSTART;TZID=UTC:20180627T140000
DTEND;TZID=UTC:20180627T170000
DTSTAMP:20260422T235352
CREATED:20180614T125651Z
LAST-MODIFIED:20180614T125651Z
UID:663-1530108000-1530118800@get-fitt.com
SUMMARY:The Get Fitt Far Infrared Experience - Free Workshops An Introduction to Far Infrared Light Therapy
DESCRIPTION:(Limited Spaces – Book Early – Lunch Included on Saturdays)\nVenue: 10 Beaumont Gate\, Shenley Hill\, Radlett WD7 7AR – 2 Mins Walk From Station\nNearest Rail station – Radlett Thameslink – 20 minutes Direct from St Pancras
URL:https://get-fitt.com/event/the-get-fitt-far-infrared-experience-free-workshops-an-introduction-to-far-infrared-light-therapy/
LOCATION:10 Beaumont Gate\, Shenley Hill\, Radlett\, WD7 7AR\, United Kingdom
CATEGORIES:Far Infrared Workshops
END:VEVENT
BEGIN:VEVENT
DTSTART;TZID=UTC:20180623T110000
DTEND;TZID=UTC:20180623T140000
DTSTAMP:20260422T235352
CREATED:20180614T124811Z
LAST-MODIFIED:20180614T124811Z
UID:657-1529751600-1529762400@get-fitt.com
SUMMARY:Far Infrared Light Therapy - Freedom From Pain Workshops
DESCRIPTION:Workshop Includes a Free Far Infrared Treatment\n(Limited Spaces – Book Early – Lunch Included on Saturday)\nVenue: 10 Beaumont Gate\, Shenley Hill\, Radlett WD7 7AR – 2 Mins Walk From Station \nNearest Rail station – Radlett Thameslink –  20 minutes Direct from St Pancras
URL:https://get-fitt.com/event/far-infrared-light-therapy-freedom-from-pain-workshops-2/
LOCATION:10 Beaumont Gate\, Shenley Hill\, Radlett\, WD7 7AR\, United Kingdom
CATEGORIES:Far Infrared for Freedom From Pain
END:VEVENT
BEGIN:VEVENT
DTSTART;TZID=UTC:20180621T140000
DTEND;TZID=UTC:20180621T170000
DTSTAMP:20260422T235352
CREATED:20180608T123428Z
LAST-MODIFIED:20180614T124459Z
UID:184-1529589600-1529600400@get-fitt.com
SUMMARY:Far Infrared Light Therapy - Freedom From Pain Workshops
DESCRIPTION:Workshop Includes a Free Far Infrared Treatment\n(Limited Spaces – Book Early – Lunch Included on Saturday)\nVenue: 10 Beaumont Gate\, Shenley Hill\, Radlett WD7 7AR – 2 Mins Walk From Station \nNearest Rail station – Radlett Thameslink –  20 minutes Direct from St Pancras
URL:https://get-fitt.com/event/far-infrared-light-therapy-freedom-from-pain-workshops/
LOCATION:10 Beaumont Gate\, Shenley Hill\, Radlett\, WD7 7AR\, United Kingdom
CATEGORIES:Far Infrared for Freedom From Pain
END:VEVENT
END:VCALENDAR