BEGIN:VCALENDAR
VERSION:2.0
PRODID:-//Get Fitt - ECPv6.15.20//NONSGML v1.0//EN
CALSCALE:GREGORIAN
METHOD:PUBLISH
X-WR-CALNAME:Get Fitt
X-ORIGINAL-URL:https://get-fitt.com
X-WR-CALDESC:Events for Get Fitt
REFRESH-INTERVAL;VALUE=DURATION:PT1H
X-Robots-Tag:noindex
X-PUBLISHED-TTL:PT1H
BEGIN:VTIMEZONE
TZID:Europe/Paris
BEGIN:DAYLIGHT
TZOFFSETFROM:+0100
TZOFFSETTO:+0200
TZNAME:CEST
DTSTART:20220327T010000
END:DAYLIGHT
BEGIN:STANDARD
TZOFFSETFROM:+0200
TZOFFSETTO:+0100
TZNAME:CET
DTSTART:20221030T010000
END:STANDARD
BEGIN:DAYLIGHT
TZOFFSETFROM:+0100
TZOFFSETTO:+0200
TZNAME:CEST
DTSTART:20230326T010000
END:DAYLIGHT
BEGIN:STANDARD
TZOFFSETFROM:+0200
TZOFFSETTO:+0100
TZNAME:CET
DTSTART:20231029T010000
END:STANDARD
BEGIN:DAYLIGHT
TZOFFSETFROM:+0100
TZOFFSETTO:+0200
TZNAME:CEST
DTSTART:20240331T010000
END:DAYLIGHT
BEGIN:STANDARD
TZOFFSETFROM:+0200
TZOFFSETTO:+0100
TZNAME:CET
DTSTART:20241027T010000
END:STANDARD
END:VTIMEZONE
BEGIN:VEVENT
DTSTART;TZID=Europe/Paris:20231031T160000
DTEND;TZID=Europe/Paris:20231031T173000
DTSTAMP:20260421T214725
CREATED:20231027T135904Z
LAST-MODIFIED:20231027T135953Z
UID:5502-1698768000-1698773400@get-fitt.com
SUMMARY:Introduction to Detox & Rejuvenation
DESCRIPTION:
URL:https://get-fitt.com/event/introduction-to-detox-rejuvenation/
LOCATION:Online\, Live Event
END:VEVENT
END:VCALENDAR