BEGIN:VCALENDAR
VERSION:2.0
PRODID:-//Get Fitt - ECPv6.15.20//NONSGML v1.0//EN
CALSCALE:GREGORIAN
METHOD:PUBLISH
X-ORIGINAL-URL:https://get-fitt.com
X-WR-CALDESC:Events for Get Fitt
REFRESH-INTERVAL;VALUE=DURATION:PT1H
X-Robots-Tag:noindex
X-PUBLISHED-TTL:PT1H
BEGIN:VTIMEZONE
TZID:Europe/Paris
BEGIN:DAYLIGHT
TZOFFSETFROM:+0100
TZOFFSETTO:+0200
TZNAME:CEST
DTSTART:20210328T010000
END:DAYLIGHT
BEGIN:STANDARD
TZOFFSETFROM:+0200
TZOFFSETTO:+0100
TZNAME:CET
DTSTART:20211031T010000
END:STANDARD
BEGIN:DAYLIGHT
TZOFFSETFROM:+0100
TZOFFSETTO:+0200
TZNAME:CEST
DTSTART:20220327T010000
END:DAYLIGHT
BEGIN:STANDARD
TZOFFSETFROM:+0200
TZOFFSETTO:+0100
TZNAME:CET
DTSTART:20221030T010000
END:STANDARD
BEGIN:DAYLIGHT
TZOFFSETFROM:+0100
TZOFFSETTO:+0200
TZNAME:CEST
DTSTART:20230326T010000
END:DAYLIGHT
BEGIN:STANDARD
TZOFFSETFROM:+0200
TZOFFSETTO:+0100
TZNAME:CET
DTSTART:20231029T010000
END:STANDARD
END:VTIMEZONE
BEGIN:VEVENT
DTSTART;TZID=Europe/Paris:20220316T140000
DTEND;TZID=Europe/Paris:20220316T153000
DTSTAMP:20260421T203840
CREATED:20210730T094525Z
LAST-MODIFIED:20220302T171006Z
UID:2729-1647439200-1647444600@get-fitt.com
SUMMARY:Recovery From Fatigue - Live Webinar Training Day 1
DESCRIPTION:Free Fatigue Recovery Training Series\nAnd Live Q & A Sessions\n\nPresenting\nDay 1 – Dr Sarah Myhill 14:00 (GMT )Weds 16th Mar\n\nDiagnosis and Management of Chronic Fatigue\, Myalgic-Encephalitis\, Long Covid & Post Vaccination Fatigue. \nDay 2 – Mark Givert 14:00 (GMT) Thurs 17th Mar\nFar Infrared Light Therapy an Essential Key for Recovery From Chronic Fatigue\, M.E\, Long Covid & Post Vaccination Fatigue. \nDay 3 – Mark Givert 14:00 (GMT) Fri 18th Mar\n\nQ & A Far Infrared for Recovery From Fatigue. \nIntro to ThinQ Fitt – Mind Dynamics\nDiscover Your Stress Drivers\, What is Slowing Down Your Recovery and What You Can do About it! \n  \nBOOK NOW \n  \nGet Fitt are proud to present Dr Sarah Myhill a leading light in the world of recovery from Chronic Fatigue. \nDr Myhill has over 40 years experience as a medical doctor and who is a Pioneer in the Field of Chronic Fatigue. \nShe is the author of The handbook to Chronic Fatigue Recovery. \nDiagnosis & Treatment of Chronic Fatigue Syndrome & Myalgic Encephalitis. \nDr Myhill has also published Ground breaking Research regarding the nature of Chronic Fatigue. \n  \nCLICK HERE TO BOOK NOW \nSpace is Limited so Please Book Soonest to Reserve your Place –\nPlease do Pass this on to Friends/Family or Anyone You Feel May Benefit \nDay 1- Dr Myhill – Diagnosis and Management of Chronic Fatigue &\nMyalgic-Encephalitis & Long Covid\nDr Myhill will cover the following topics & more: \nEnergy Delivery Mechanisms: \n\nDiet\,\nGut Function\nMitochondrial Dysfunction\,\nAdrenal and Thyroid problems\n\nInflammation Mechanisms \n\nChronic Infections\,\nAllergy and Auto-Immunity with particular reference to vaccination.\n\nDay 2 – Mark Givert (Founder of Get Fitt) –\nThe Anatomy of Fatigue & Far Infrared Light Therapy\nfor Recovery From Fatigue\, M.E & Long Covid\nMark Givert will cover the following topics & more: \nFar Infrared For: \n\n\n\n\n\nFatigue & The Toxicity Connection\nMitochondrial Repair\nThe Mould Factor\nDigestion & Exhaustion\nLyme?\nWhat About Stress & Burnout\nHormonal Disruption\nStress Relief & Nervous System Reset\nRestoring Cardiovascular Function\nReducing Inflammation\nBoosting Immunity\nRestoring Lung Function\n\n\n\n\n\nDay 3 – Q & A Far Infrared for Recovery From Fatigue \nAll of your questions answered about Far Infrared for Fatigue Recovery in a live Q & A session. \nIntroduction to ThinQ Fitt – Mind Dynamics \n\nYour Stress Drivers\nWhat is Slowing Down Your Recovery\nEasy Techniques for Rapid Stress Reduction & Accelerated Healing
URL:https://get-fitt.com/event/recovery-from-fatigue1/
LOCATION:Online\, Live Event
ORGANIZER;CN="Get  Fitt Ltd":MAILTO:admin@get-fitt.com
END:VEVENT
END:VCALENDAR