BEGIN:VCALENDAR
VERSION:2.0
PRODID:-//Get Fitt - ECPv6.15.20//NONSGML v1.0//EN
CALSCALE:GREGORIAN
METHOD:PUBLISH
X-WR-CALNAME:Get Fitt
X-ORIGINAL-URL:https://get-fitt.com
X-WR-CALDESC:Events for Get Fitt
REFRESH-INTERVAL;VALUE=DURATION:PT1H
X-Robots-Tag:noindex
X-PUBLISHED-TTL:PT1H
BEGIN:VTIMEZONE
TZID:Europe/Paris
BEGIN:DAYLIGHT
TZOFFSETFROM:+0100
TZOFFSETTO:+0200
TZNAME:CEST
DTSTART:20200329T010000
END:DAYLIGHT
BEGIN:STANDARD
TZOFFSETFROM:+0200
TZOFFSETTO:+0100
TZNAME:CET
DTSTART:20201025T010000
END:STANDARD
BEGIN:DAYLIGHT
TZOFFSETFROM:+0100
TZOFFSETTO:+0200
TZNAME:CEST
DTSTART:20210328T010000
END:DAYLIGHT
BEGIN:STANDARD
TZOFFSETFROM:+0200
TZOFFSETTO:+0100
TZNAME:CET
DTSTART:20211031T010000
END:STANDARD
BEGIN:DAYLIGHT
TZOFFSETFROM:+0100
TZOFFSETTO:+0200
TZNAME:CEST
DTSTART:20220327T010000
END:DAYLIGHT
BEGIN:STANDARD
TZOFFSETFROM:+0200
TZOFFSETTO:+0100
TZNAME:CET
DTSTART:20221030T010000
END:STANDARD
END:VTIMEZONE
BEGIN:VEVENT
DTSTART;TZID=Europe/Paris:20210922T163000
DTEND;TZID=Europe/Paris:20210922T180000
DTSTAMP:20260422T052750
CREATED:20210907T092618Z
LAST-MODIFIED:20210913T191759Z
UID:3013-1632328200-1632333600@get-fitt.com
SUMMARY:Women's Health - The Five Essentials Webinar Series
DESCRIPTION:Women’s Health – The Five Essentials\nFree Webinar Series and Q & A\nSeptember 22 -24th 16:30 – 18:00\nPresenting\n \nDr Rajendra Sharma 16:30 Wednesday 22nd Sept\nMark Givert 16:30 Thursday 23rd Sept\nFar Infrared for Womens Health Q & A 16:30 Friday 24th Sept\nBook Now \n  \n \nDay 1 – Dr Sharma\nDr Sharma has 30 years of experience as an Integrated medical doctor utilizing conventional\,\nFunctional and Complementary medicine. \nOver the years he has provided content and support to the BBC\, ITV\, Channel 4 and\nother media outlets. He continues to provide regular care to many globally acclaimed celebrities. \nDr Sharma is the author of ”Live Longer Live Younger” a handbook and guide for a long and healthy life.  \nDr Sharma will cover the following topics & more: \n\nMenopause\nPMT & Period Pain\n\nFertility\nOsteoporosis\nSkin Anti -Ageing\n\nDay 2 – Mark Givert (Founder of Get Fitt)\nSince 2004 Mark Givert the Founder of Get Fitt has successfully helped clients\nwith their Far Infrared Light Therapy & Detoxification programmes for menopausal\nissues\, skin rejuvenation\, PMT\, hormonal disruptions & fertility. \nMark Givert will cover the following topics & more: \nFar Infrared For: \n\nMenopause\nRestoring Hormone Balance\nDetoxification\nStress Relief & Nervous System Reset\nRestoring Cardiovascular Function\nReducing Inflammation\nPMT & Period Pain\nFertility\nOsteoporosis\nSkin Rejuvenation\n\nDay 3 – Q & A Far Infrared for Womens Health\n\nAll of your questions answered about Far Infrared for Women’s Health in a live Q & A session.
URL:https://get-fitt.com/event/womens-health-the-five-essentials/
LOCATION:Online\, Live Event
ORGANIZER;CN="Get  Fitt Ltd":MAILTO:admin@get-fitt.com
END:VEVENT
END:VCALENDAR