BEGIN:VCALENDAR
VERSION:2.0
PRODID:-//Get Fitt - ECPv6.15.20//NONSGML v1.0//EN
CALSCALE:GREGORIAN
METHOD:PUBLISH
X-ORIGINAL-URL:https://get-fitt.com
X-WR-CALDESC:Events for Get Fitt
REFRESH-INTERVAL;VALUE=DURATION:PT1H
X-Robots-Tag:noindex
X-PUBLISHED-TTL:PT1H
BEGIN:VTIMEZONE
TZID:Europe/Paris
BEGIN:DAYLIGHT
TZOFFSETFROM:+0100
TZOFFSETTO:+0200
TZNAME:CEST
DTSTART:20190331T010000
END:DAYLIGHT
BEGIN:STANDARD
TZOFFSETFROM:+0200
TZOFFSETTO:+0100
TZNAME:CET
DTSTART:20191027T010000
END:STANDARD
BEGIN:DAYLIGHT
TZOFFSETFROM:+0100
TZOFFSETTO:+0200
TZNAME:CEST
DTSTART:20200329T010000
END:DAYLIGHT
BEGIN:STANDARD
TZOFFSETFROM:+0200
TZOFFSETTO:+0100
TZNAME:CET
DTSTART:20201025T010000
END:STANDARD
BEGIN:DAYLIGHT
TZOFFSETFROM:+0100
TZOFFSETTO:+0200
TZNAME:CEST
DTSTART:20210328T010000
END:DAYLIGHT
BEGIN:STANDARD
TZOFFSETFROM:+0200
TZOFFSETTO:+0100
TZNAME:CET
DTSTART:20211031T010000
END:STANDARD
END:VTIMEZONE
BEGIN:VEVENT
DTSTART;TZID=Europe/Paris:20200925T160000
DTEND;TZID=Europe/Paris:20200925T170000
DTSTAMP:20260422T224718
CREATED:20200624T174445Z
LAST-MODIFIED:20200811T133632Z
UID:1856-1601049600-1601053200@get-fitt.com
SUMMARY:AGELESS - A New Webinar Series Coming Soon
DESCRIPTION:THE AGELESS WEBINAR SERIES\nSTAY YOUNG\, LIVE LONG\, SUSTAIN & MAINTAIN GOOD HEALTH\n  \nMark Givert of Get Fitt Presents the AGELESS WEBINAR SERIES – Mark will be teaming up with Leading Experts & Healthcare Professionals to bring you this exciting new webinar health series. \nThe webinar series will run every 2 weeks on a Friday afternoon at 16:00 Coming Soon. \nThe series will be covering: \n\nStaying Younger\nLiving Longer\nThe Latest Anti-Ageing Strategies\nHow to Sustain & Maintain Good Health\n\nDo Join me and take charge of your health …… \nMark Givert battled with chronic illness for over 6 years and founded Get Fitt in 2004 as a result of his life changing experience with Far Infrared Light Therapy. For over 15 years Mark has been working with leading Doctors\, Clinics\, & Healthcare Professionals worldwide. \nGet Fitt are leaders in the field of Far Infrared Light Therapy and provide training for clinics\, spas and healthcare professionals worldwide. \nGet Fitt have assisted thousands of clients helping them with their journey of restoring good health and getting their lives back. \nDo join us so we can help you achieve the best health EVER…….. \nWe look forward to seeing you all very soon….. \nYES I WANT TO BOOK MY SEAT FOR THE AGELESS WEBINAR
URL:https://get-fitt.com/event/ageless-webinar-series/
END:VEVENT
END:VCALENDAR