BEGIN:VCALENDAR
VERSION:2.0
PRODID:-//Get Fitt - ECPv6.15.20//NONSGML v1.0//EN
CALSCALE:GREGORIAN
METHOD:PUBLISH
X-WR-CALNAME:Get Fitt
X-ORIGINAL-URL:https://get-fitt.com
X-WR-CALDESC:Events for Get Fitt
REFRESH-INTERVAL;VALUE=DURATION:PT1H
X-Robots-Tag:noindex
X-PUBLISHED-TTL:PT1H
BEGIN:VTIMEZONE
TZID:Europe/Paris
BEGIN:DAYLIGHT
TZOFFSETFROM:+0100
TZOFFSETTO:+0200
TZNAME:CEST
DTSTART:20190331T010000
END:DAYLIGHT
BEGIN:STANDARD
TZOFFSETFROM:+0200
TZOFFSETTO:+0100
TZNAME:CET
DTSTART:20191027T010000
END:STANDARD
BEGIN:DAYLIGHT
TZOFFSETFROM:+0100
TZOFFSETTO:+0200
TZNAME:CEST
DTSTART:20200329T010000
END:DAYLIGHT
BEGIN:STANDARD
TZOFFSETFROM:+0200
TZOFFSETTO:+0100
TZNAME:CET
DTSTART:20201025T010000
END:STANDARD
BEGIN:DAYLIGHT
TZOFFSETFROM:+0100
TZOFFSETTO:+0200
TZNAME:CEST
DTSTART:20210328T010000
END:DAYLIGHT
BEGIN:STANDARD
TZOFFSETFROM:+0200
TZOFFSETTO:+0100
TZNAME:CET
DTSTART:20211031T010000
END:STANDARD
END:VTIMEZONE
BEGIN:VEVENT
DTSTART;TZID=Europe/Paris:20200826T160000
DTEND;TZID=Europe/Paris:20200826T170000
DTSTAMP:20260423T000651
CREATED:20200817T114658Z
LAST-MODIFIED:20200819T154328Z
UID:2132-1598457600-1598461200@get-fitt.com
SUMMARY:Defend & Protect - Far Infrared for Boosting Immunity
DESCRIPTION:Mark Givert (Founder of Get Fitt) Presents\nDefend & Protect Series\nFar Infrared Light Therapy for Boosting Immunity\n\nWednesday 26th August 2020 at 16 :00 \n \nBook Your Seat Now \nOver the years we have seen stress & toxic overload significantly compromising the immune system. Now more than ever it is crucial to be able to defend and protect yourself against infections. \nWe need our immune system strong and working really well to keep us safe and healthy during these challenging times. \nDuring this webinar we will share how Far Infrared Light Therapy can be used to help restore healthy functioning of the immune system and also to boost the immune system just when you need it. \nSince 2004 Get Fitt are leaders in the field of Far Infrared Light Therapy and provide support & training for clients\, clinics\, spas and healthcare professionals worldwide. \nSome of the topics that will be covered in The Webinar include:\n\nThe Problem of Lowered Core Temperature\nInducing a Fever\nBoost Immunity & Cardiovascular Function\nThe Exercise Effect for Resilience\nHow Heat Can Boost Immunity\nReducing Stress\nHelping Depression\nAnti-Oxidant Production\nNitric Oxide Deficiency\nImproving Circulation\nPreventing the spread of Infections\nRepairing the lungs\nIncreasing Energy Levels\nImproving Sleep…..\nHelping Boost Delivery of Supplements & Herbs\nDetoxification\n\nSince 2004 Get Fitt have assisted thousands of clients with their journey of restoring good health and getting their lives back. \nMark Givert battled with chronic illness for over 6 years and founded Get Fitt in 2004 as a result of his life changing experience with Far Infrared Light Therapy. \nSince 2004 Get Fitt have been working globally with leading Doctors\, Clinics\, & Healthcare Professionals worldwide. \nDo join us to learn how Far Infrared can help boost the body’s natural immune system to help keep you safe and healthy \nWe look forward to seeing you all very soon….. \nBook Your Seat Now
URL:https://get-fitt.com/event/defend-protect-far-infrared-for-boosting-immunity/
LOCATION:Online\, Live Event
ORGANIZER;CN="Get  Fitt Ltd":MAILTO:admin@get-fitt.com
END:VEVENT
END:VCALENDAR