BEGIN:VCALENDAR
VERSION:2.0
PRODID:-//Get Fitt - ECPv6.15.20//NONSGML v1.0//EN
CALSCALE:GREGORIAN
METHOD:PUBLISH
X-ORIGINAL-URL:https://get-fitt.com
X-WR-CALDESC:Events for Get Fitt
REFRESH-INTERVAL;VALUE=DURATION:PT1H
X-Robots-Tag:noindex
X-PUBLISHED-TTL:PT1H
BEGIN:VTIMEZONE
TZID:Europe/Paris
BEGIN:DAYLIGHT
TZOFFSETFROM:+0100
TZOFFSETTO:+0200
TZNAME:CEST
DTSTART:20190331T010000
END:DAYLIGHT
BEGIN:STANDARD
TZOFFSETFROM:+0200
TZOFFSETTO:+0100
TZNAME:CET
DTSTART:20191027T010000
END:STANDARD
BEGIN:DAYLIGHT
TZOFFSETFROM:+0100
TZOFFSETTO:+0200
TZNAME:CEST
DTSTART:20200329T010000
END:DAYLIGHT
BEGIN:STANDARD
TZOFFSETFROM:+0200
TZOFFSETTO:+0100
TZNAME:CET
DTSTART:20201025T010000
END:STANDARD
BEGIN:DAYLIGHT
TZOFFSETFROM:+0100
TZOFFSETTO:+0200
TZNAME:CEST
DTSTART:20210328T010000
END:DAYLIGHT
BEGIN:STANDARD
TZOFFSETFROM:+0200
TZOFFSETTO:+0100
TZNAME:CET
DTSTART:20211031T010000
END:STANDARD
END:VTIMEZONE
BEGIN:VEVENT
DTSTART;TZID=Europe/Paris:20200511T190000
DTEND;TZID=Europe/Paris:20200511T210000
DTSTAMP:20260423T053505
CREATED:20200109T150141Z
LAST-MODIFIED:20200131T115039Z
UID:1565-1589223600-1589230800@get-fitt.com
SUMMARY:Systemic Far Infrared Light Therapy – An Holistic Solution
DESCRIPTION:This workshop explains what Far Infrared is\, how it works and it’s applications. \nDuring the workshop Mark will share his extensive knowledge about Far Infrared light therapy. \nSome of the subject matter covered will include but not be limited to: \n\nFar Infrared – What is it?\nHow it works\nApplications of Far Infrared\nDaylight Deprivation\nIndoor Living\nSedentary Lifestyle\nDetoxification\nMitochondrial Repair\nImproving Cardiovascular Function\nNeurodegenerative Disease\nDiabetes\nStress Relief\nHeart Disease\nArthritis & Chronic Pain\nImproving Sleep\nReduction in Body Weight & Body Fat\nOxidative Stress\nExercise Effect\n\nMark has been working with Far Infrared & Healthcare professionals since 2004 and he will share his experience of Far Infrared Light therapy. \nIn addition he will discuss a number of cases studies illustrating the benefits of Far Infrared. \nHis team provide Far Infrared Light therapy training for leading Doctors\, and healthcare professionals worldwide.
URL:https://get-fitt.com/event/systemic-far-infrared-light-therapy-an-holistic-solution/
LOCATION:The Holistic Centre\, Wiggins Yard\, Godalming\, GU7 1HL\, United Kingdom
END:VEVENT
END:VCALENDAR