BEGIN:VCALENDAR
VERSION:2.0
PRODID:-//Get Fitt - ECPv6.15.20//NONSGML v1.0//EN
CALSCALE:GREGORIAN
METHOD:PUBLISH
X-ORIGINAL-URL:https://get-fitt.com
X-WR-CALDESC:Events for Get Fitt
REFRESH-INTERVAL;VALUE=DURATION:PT1H
X-Robots-Tag:noindex
X-PUBLISHED-TTL:PT1H
BEGIN:VTIMEZONE
TZID:Europe/Paris
BEGIN:DAYLIGHT
TZOFFSETFROM:+0100
TZOFFSETTO:+0200
TZNAME:CEST
DTSTART:20190331T010000
END:DAYLIGHT
BEGIN:STANDARD
TZOFFSETFROM:+0200
TZOFFSETTO:+0100
TZNAME:CET
DTSTART:20191027T010000
END:STANDARD
BEGIN:DAYLIGHT
TZOFFSETFROM:+0100
TZOFFSETTO:+0200
TZNAME:CEST
DTSTART:20200329T010000
END:DAYLIGHT
BEGIN:STANDARD
TZOFFSETFROM:+0200
TZOFFSETTO:+0100
TZNAME:CET
DTSTART:20201025T010000
END:STANDARD
BEGIN:DAYLIGHT
TZOFFSETFROM:+0100
TZOFFSETTO:+0200
TZNAME:CEST
DTSTART:20210328T010000
END:DAYLIGHT
BEGIN:STANDARD
TZOFFSETFROM:+0200
TZOFFSETTO:+0100
TZNAME:CET
DTSTART:20211031T010000
END:STANDARD
END:VTIMEZONE
BEGIN:VEVENT
DTSTART;TZID=Europe/Paris:20200318T190000
DTEND;TZID=Europe/Paris:20200318T200000
DTSTAMP:20260423T082345
CREATED:20200304T143812Z
LAST-MODIFIED:20200306T100840Z
UID:1612-1584558000-1584561600@get-fitt.com
SUMMARY:Light Starved & Sick - The Webinar
DESCRIPTION:The Growing Need for Photo-Supplementation?\nTHE AVERAGE CITY DWELLER NOW SPENDS APPROXIMATELY 90% OF THEIR LIFE INDOORS!\n \nLight Deficiency/Starvation is sadly becoming a real thing!\nWe are the ‘ INDOOR Generation……\n  \nWHAT CAN YOU AND I DO ABOUT IT? \nLight deprivation is a significant contributory factor to illness and in many cases PHOTO SUPPLEMENTATION may be an essential precursor to the body being able to detoxify & repair itself. \nI myself was so ill at one stage that I could not digest food\, I was 28 lbs underweight and I could not absorb or assimilate supplements….I just got worse. \nI found that supplementing with the Far Infrared helped restore system function so that I was ultimately able to work with my nutrition and supplementation. \n  \nCLICK HERE TO REGISTER FOR THE WEBINAR \nLearn more about how Light deprivation is a significant contributory factor to illness and in many cases PHOTO SUPPLEMENTATION may need to be addressed early on so that the body can function well enough to be able to detoxify\, digest and assimilate food and supplements. \nJoin us for a 45 minute Masterclass with Q&A\nWe are excited to launch this new Masterclass for practitioners it will be 45 minutes of Breakthrough\, Research Backed and Case Study Rich content created Just for Practitioners who are making a difference in their clients lives. \nWe will also have a live Q&A \nDiscover how and why PHOTO supplementation can help jump start the body system so that it can digest and absorb food and essential supplements for healthy function. \nWe really are here to help you help your clients . . . please reserve your free seat now while spots are available. \n  \nCLICK HERE TO REGISTER FOR THE WEBINAR \n  \n 
URL:https://get-fitt.com/event/light-starved-webinar/
LOCATION:Online\, Live Event
ORGANIZER;CN="Get  Fitt Ltd":MAILTO:admin@get-fitt.com
END:VEVENT
END:VCALENDAR